BEGIN:VCALENDAR
VERSION:2.0
PRODID:-//Empowering Michigan - ECPv6.15.20//NONSGML v1.0//EN
CALSCALE:GREGORIAN
METHOD:PUBLISH
X-ORIGINAL-URL:https://empoweringmichigan.com
X-WR-CALDESC:Events for Empowering Michigan
REFRESH-INTERVAL;VALUE=DURATION:PT1H
X-Robots-Tag:noindex
X-PUBLISHED-TTL:PT1H
BEGIN:VTIMEZONE
TZID:America/Detroit
BEGIN:DAYLIGHT
TZOFFSETFROM:-0500
TZOFFSETTO:-0400
TZNAME:EDT
DTSTART:20180311T070000
END:DAYLIGHT
BEGIN:STANDARD
TZOFFSETFROM:-0400
TZOFFSETTO:-0500
TZNAME:EST
DTSTART:20181104T060000
END:STANDARD
BEGIN:DAYLIGHT
TZOFFSETFROM:-0500
TZOFFSETTO:-0400
TZNAME:EDT
DTSTART:20190310T070000
END:DAYLIGHT
BEGIN:STANDARD
TZOFFSETFROM:-0400
TZOFFSETTO:-0500
TZNAME:EST
DTSTART:20191103T060000
END:STANDARD
BEGIN:DAYLIGHT
TZOFFSETFROM:-0500
TZOFFSETTO:-0400
TZNAME:EDT
DTSTART:20200308T070000
END:DAYLIGHT
BEGIN:STANDARD
TZOFFSETFROM:-0400
TZOFFSETTO:-0500
TZNAME:EST
DTSTART:20201101T060000
END:STANDARD
END:VTIMEZONE
BEGIN:VEVENT
DTSTART;TZID=America/Detroit:20190607T190000
DTEND;TZID=America/Detroit:20190608T000000
DTSTAMP:20260420T015117
CREATED:20190529T190125Z
LAST-MODIFIED:20190607T152130Z
UID:13361-1559934000-1559952000@empoweringmichigan.com
SUMMARY:Sunset Sessions
DESCRIPTION:Lets dance\, Detroit! Sunset Sessions are coming back! Join us as DJs spin at Beacon Park every Friday night in the summer. Bring a blanket and hang out on the lawn or dance the night away and play lawn games. Either way\, Sunset Sessions is FREE and family-friendly. \nFood and drink will be available for purchase from Lumen Detroit. \n\n \nShare
URL:https://empoweringmichigan.com/event/sunset-sessions-2/2019-06-07/
LOCATION:Beacon Park\, 1901 Grand River Ave\, Detroit\, MI\, 48226\, United States
CATEGORIES:Featured-Aqua
ATTACH;FMTTYPE=image/jpeg:https://empoweringmichigan.com/wp-content/uploads/2019/05/file-29.jpeg
GEO:42.334524;-83.054905
X-APPLE-STRUCTURED-LOCATION;VALUE=URI;X-ADDRESS=Beacon Park 1901 Grand River Ave Detroit MI 48226 United States;X-APPLE-RADIUS=500;X-TITLE=1901 Grand River Ave:geo:-83.054905,42.334524
END:VEVENT
END:VCALENDAR