BEGIN:VCALENDAR
VERSION:2.0
PRODID:-//Empowering Michigan - ECPv6.15.20//NONSGML v1.0//EN
CALSCALE:GREGORIAN
METHOD:PUBLISH
X-WR-CALNAME:Empowering Michigan
X-ORIGINAL-URL:https://empoweringmichigan.com
X-WR-CALDESC:Events for Empowering Michigan
REFRESH-INTERVAL;VALUE=DURATION:PT1H
X-Robots-Tag:noindex
X-PUBLISHED-TTL:PT1H
BEGIN:VTIMEZONE
TZID:America/Detroit
BEGIN:DAYLIGHT
TZOFFSETFROM:-0500
TZOFFSETTO:-0400
TZNAME:EDT
DTSTART:20240310T070000
END:DAYLIGHT
BEGIN:STANDARD
TZOFFSETFROM:-0400
TZOFFSETTO:-0500
TZNAME:EST
DTSTART:20241103T060000
END:STANDARD
BEGIN:DAYLIGHT
TZOFFSETFROM:-0500
TZOFFSETTO:-0400
TZNAME:EDT
DTSTART:20250309T070000
END:DAYLIGHT
BEGIN:STANDARD
TZOFFSETFROM:-0400
TZOFFSETTO:-0500
TZNAME:EST
DTSTART:20251102T060000
END:STANDARD
BEGIN:DAYLIGHT
TZOFFSETFROM:-0500
TZOFFSETTO:-0400
TZNAME:EDT
DTSTART:20260308T070000
END:DAYLIGHT
BEGIN:STANDARD
TZOFFSETFROM:-0400
TZOFFSETTO:-0500
TZNAME:EST
DTSTART:20261101T060000
END:STANDARD
END:VTIMEZONE
BEGIN:VEVENT
DTSTART;TZID=America/Detroit:20250914T110000
DTEND;TZID=America/Detroit:20250914T190000
DTSTAMP:20260421T074220
CREATED:20250521T191505Z
LAST-MODIFIED:20250806T153257Z
UID:54919-1757847600-1757876400@empoweringmichigan.com
SUMMARY:Summer Sundays at Beacon Park
DESCRIPTION:  \nJoin us on select Sundays for brunch\, crafts\, fitness classes\, games\, dancing\, environmental learning activities\, community connections and more!  \nEnjoy the outdoors\, take in the city views and make lasting memories. Don’t miss out on this summer series of fun\, vibes\, and memories in the making!  \nFrom 11 a.m. – 3 p.m. \n\nTaste the Lumen summer menu\, enjoy brunch or have your own picnic in the park’s garden or patio areas. Make a reservation at www.lumendetroit.com \n\n  \n\nEnjoy music and entertainment in the park \n\n  \n\nPlay select board games and lawn games like cornhole\, connect 4\, ping pong and more \n\n  \n\nVisit the “Beacon Buddies” station. Families can receive giveaways while supplies last and also sign up for special invitations to future events and family friendly activations at Beacon Park. \n\n  \n\nVisit the nutrition\, family wellness and environmental awareness station with HealthyAF LLC. Visitors can get seasonal tips for healthy eating ideas\, high quality food choices\, and also learn about recycling and composting to help keep the environment healthy. \n\n  \n\nBuzz by the pollinator station featuring Detroit Hives. Visitors will have a unique opportunity to see beekeeping tools and experience a real hive while exploring the journey of pollinators and our shared eco system. \n\nAbout: Detroit Hives is a 501(c)(3) nonprofit organization dedicated to enhancing the quality of life for both people and pollinators by transforming vacant lots into vibrant\, educational green spaces in Detroit’s underserved communities.  \n  \n\nLearn at the STEEAM (Science\, Technology\, Engineering\, Entrepreneurship\, Art\, and Math) learning station with Detroit CHEMpreneurIST (July 13th and August 10th only).  \n\nAbout: Detroit CHEMpreneurIST collaborates closely with local schools\, educators\, and community groups to offer unique workshops that blend personal care chemistry with entrepreneurial education. Our programs\, designed to align with Michigan’s ELA (English Language Arts) and Science standards\, and to integrate a comprehensive STEEAM (Science\, Technology\, Engineering\, Entrepreneurship\, Art\, and Math) approach.  \nAugust 10: From the Lab to Label: Honey\, I made Lip Balm!: Get ready for a buzz-worthy blend of chemistry and creativity! Using natural ingredients\, participants will mix up a honey lip balm that’s ready to use or take. After stirring up their balm\, they’ll head to the branding station to give their new product a name\, design a custom label\, or create packaging that reflects their personal style. From start to finish\, it’s a playful journey through natural chemistry\, self-care\, and self-expression  \n  \nFrom 3 – 5 p.m.  \n\nDancing: Beginner and Intermediate hustle and line dancing by the N’Namdi Movement Center with instructor Maurice Adams.  \n\nDetails: Move\, groove and dance your way through the weekend. Learn the basics of non-partner dance styles like hustle\, line dancing and ballroom with an experienced instructor in a beautiful outdoor space. Open to beginners and more experienced dancers.  \nWe suggest wearing comfortable clothes you can move in\, a bottle for filling at the water station and sun protection.  \nThis class is FREE and OPEN to the public. Space will be limited based on park capacity  \n***Plese RSVP for hustle and dance classes by emailing the names of participants to Beacon_Park@DTEEnergy.com and mention ” DANCE RSVP” in your message.  \n  \nFrom 5 – 7 p.m.  \n\nFitness and wellness sessions with Boll Family YMCA. Metro Detroit friends and families can boost their wellness again this year with free\, high energy\, outdoor fitness sessions led by talented instructors and fitness professionals. \n\n\nAugust 10 \n5:00pm – 5:45pm: Instructor – Jayla teaching Step Aerobics \n6:00pm – 6:45pm: Instructor – Colin teaching Stretch \n \nSeptember 14 \n5:00pm – 5:45pm: Instructor – Lynn teaching Zumba \n6:00pm – 6:45pm: Instructor – Nick teaching Stretch  \n*** Please register for attendance by clicking the link HERE or follow the link below https://anc.apm.activecommunities.com/ymcadetroit/activity/search/detail/109234?onlineSiteId=0&from_original_cui=true  \n  \nSummer Sundays at Beacon Park are programmed by the Downtown Detroit Partnership.  \nFor more information about Beacon Park and Lumen restaurant please visit:  \nwww.DTEBeaconPark.com or www.LumenDetroit.com  \n  \n  \nShare
URL:https://empoweringmichigan.com/event/summer-sundays-at-beacon-park/2025-09-14/
LOCATION:Beacon Park\, 1901 Grand River Ave\, Detroit\, MI\, 48226\, United States
CATEGORIES:Featured-Purple
ATTACH;FMTTYPE=image/jpeg:https://empoweringmichigan.com/wp-content/uploads/DDP_BeaconPark_FathersDay_20220620_Web-57-scaled.jpg
GEO:42.334524;-83.054905
X-APPLE-STRUCTURED-LOCATION;VALUE=URI;X-ADDRESS=Beacon Park 1901 Grand River Ave Detroit MI 48226 United States;X-APPLE-RADIUS=500;X-TITLE=1901 Grand River Ave:geo:-83.054905,42.334524
END:VEVENT
BEGIN:VEVENT
DTSTART;TZID=America/Detroit:20250810T110000
DTEND;TZID=America/Detroit:20250810T190000
DTSTAMP:20260421T074220
CREATED:20250521T191505Z
LAST-MODIFIED:20250806T153255Z
UID:54918-1754823600-1754852400@empoweringmichigan.com
SUMMARY:Summer Sundays at Beacon Park
DESCRIPTION:  \nJoin us on select Sundays for brunch\, crafts\, fitness classes\, games\, dancing\, environmental learning activities\, community connections and more!  \nEnjoy the outdoors\, take in the city views and make lasting memories. Don’t miss out on this summer series of fun\, vibes\, and memories in the making!  \nFrom 11 a.m. – 3 p.m. \n\nTaste the Lumen summer menu\, enjoy brunch or have your own picnic in the park’s garden or patio areas. Make a reservation at www.lumendetroit.com \n\n  \n\nEnjoy music and entertainment in the park \n\n  \n\nPlay select board games and lawn games like cornhole\, connect 4\, ping pong and more \n\n  \n\nVisit the “Beacon Buddies” station. Families can receive giveaways while supplies last and also sign up for special invitations to future events and family friendly activations at Beacon Park. \n\n  \n\nVisit the nutrition\, family wellness and environmental awareness station with HealthyAF LLC. Visitors can get seasonal tips for healthy eating ideas\, high quality food choices\, and also learn about recycling and composting to help keep the environment healthy. \n\n  \n\nBuzz by the pollinator station featuring Detroit Hives. Visitors will have a unique opportunity to see beekeeping tools and experience a real hive while exploring the journey of pollinators and our shared eco system. \n\nAbout: Detroit Hives is a 501(c)(3) nonprofit organization dedicated to enhancing the quality of life for both people and pollinators by transforming vacant lots into vibrant\, educational green spaces in Detroit’s underserved communities.  \n  \n\nLearn at the STEEAM (Science\, Technology\, Engineering\, Entrepreneurship\, Art\, and Math) learning station with Detroit CHEMpreneurIST (July 13th and August 10th only).  \n\nAbout: Detroit CHEMpreneurIST collaborates closely with local schools\, educators\, and community groups to offer unique workshops that blend personal care chemistry with entrepreneurial education. Our programs\, designed to align with Michigan’s ELA (English Language Arts) and Science standards\, and to integrate a comprehensive STEEAM (Science\, Technology\, Engineering\, Entrepreneurship\, Art\, and Math) approach.  \nAugust 10: From the Lab to Label: Honey\, I made Lip Balm!: Get ready for a buzz-worthy blend of chemistry and creativity! Using natural ingredients\, participants will mix up a honey lip balm that’s ready to use or take. After stirring up their balm\, they’ll head to the branding station to give their new product a name\, design a custom label\, or create packaging that reflects their personal style. From start to finish\, it’s a playful journey through natural chemistry\, self-care\, and self-expression  \n  \nFrom 3 – 5 p.m.  \n\nDancing: Beginner and Intermediate hustle and line dancing by the N’Namdi Movement Center with instructor Maurice Adams.  \n\nDetails: Move\, groove and dance your way through the weekend. Learn the basics of non-partner dance styles like hustle\, line dancing and ballroom with an experienced instructor in a beautiful outdoor space. Open to beginners and more experienced dancers.  \nWe suggest wearing comfortable clothes you can move in\, a bottle for filling at the water station and sun protection.  \nThis class is FREE and OPEN to the public. Space will be limited based on park capacity  \n***Plese RSVP for hustle and dance classes by emailing the names of participants to Beacon_Park@DTEEnergy.com and mention ” DANCE RSVP” in your message.  \n  \nFrom 5 – 7 p.m.  \n\nFitness and wellness sessions with Boll Family YMCA. Metro Detroit friends and families can boost their wellness again this year with free\, high energy\, outdoor fitness sessions led by talented instructors and fitness professionals. \n\n\nAugust 10 \n5:00pm – 5:45pm: Instructor – Jayla teaching Step Aerobics \n6:00pm – 6:45pm: Instructor – Colin teaching Stretch \n \nSeptember 14 \n5:00pm – 5:45pm: Instructor – Lynn teaching Zumba \n6:00pm – 6:45pm: Instructor – Nick teaching Stretch  \n*** Please register for attendance by clicking the link HERE or follow the link below https://anc.apm.activecommunities.com/ymcadetroit/activity/search/detail/109234?onlineSiteId=0&from_original_cui=true  \n  \nSummer Sundays at Beacon Park are programmed by the Downtown Detroit Partnership.  \nFor more information about Beacon Park and Lumen restaurant please visit:  \nwww.DTEBeaconPark.com or www.LumenDetroit.com  \n  \n  \nShare
URL:https://empoweringmichigan.com/event/summer-sundays-at-beacon-park/2025-08-10/
LOCATION:Beacon Park\, 1901 Grand River Ave\, Detroit\, MI\, 48226\, United States
CATEGORIES:Featured-Purple
ATTACH;FMTTYPE=image/jpeg:https://empoweringmichigan.com/wp-content/uploads/DDP_BeaconPark_FathersDay_20220620_Web-57-scaled.jpg
GEO:42.334524;-83.054905
X-APPLE-STRUCTURED-LOCATION;VALUE=URI;X-ADDRESS=Beacon Park 1901 Grand River Ave Detroit MI 48226 United States;X-APPLE-RADIUS=500;X-TITLE=1901 Grand River Ave:geo:-83.054905,42.334524
END:VEVENT
BEGIN:VEVENT
DTSTART;TZID=America/Detroit:20250622T110000
DTEND;TZID=America/Detroit:20250622T190000
DTSTAMP:20260421T074220
CREATED:20250521T191505Z
LAST-MODIFIED:20250806T153253Z
UID:54910-1750590000-1750618800@empoweringmichigan.com
SUMMARY:Summer Sundays at Beacon Park
DESCRIPTION:  \nJoin us on select Sundays for brunch\, crafts\, fitness classes\, games\, dancing\, environmental learning activities\, community connections and more!  \nEnjoy the outdoors\, take in the city views and make lasting memories. Don’t miss out on this summer series of fun\, vibes\, and memories in the making!  \nFrom 11 a.m. – 3 p.m. \n\nTaste the Lumen summer menu\, enjoy brunch or have your own picnic in the park’s garden or patio areas. Make a reservation at www.lumendetroit.com \n\n  \n\nEnjoy music and entertainment in the park \n\n  \n\nPlay select board games and lawn games like cornhole\, connect 4\, ping pong and more \n\n  \n\nVisit the “Beacon Buddies” station. Families can receive giveaways while supplies last and also sign up for special invitations to future events and family friendly activations at Beacon Park. \n\n  \n\nVisit the nutrition\, family wellness and environmental awareness station with HealthyAF LLC. Visitors can get seasonal tips for healthy eating ideas\, high quality food choices\, and also learn about recycling and composting to help keep the environment healthy. \n\n  \n\nBuzz by the pollinator station featuring Detroit Hives. Visitors will have a unique opportunity to see beekeeping tools and experience a real hive while exploring the journey of pollinators and our shared eco system. \n\nAbout: Detroit Hives is a 501(c)(3) nonprofit organization dedicated to enhancing the quality of life for both people and pollinators by transforming vacant lots into vibrant\, educational green spaces in Detroit’s underserved communities.  \n  \n\nLearn at the STEEAM (Science\, Technology\, Engineering\, Entrepreneurship\, Art\, and Math) learning station with Detroit CHEMpreneurIST (July 13th and August 10th only).  \n\nAbout: Detroit CHEMpreneurIST collaborates closely with local schools\, educators\, and community groups to offer unique workshops that blend personal care chemistry with entrepreneurial education. Our programs\, designed to align with Michigan’s ELA (English Language Arts) and Science standards\, and to integrate a comprehensive STEEAM (Science\, Technology\, Engineering\, Entrepreneurship\, Art\, and Math) approach.  \nAugust 10: From the Lab to Label: Honey\, I made Lip Balm!: Get ready for a buzz-worthy blend of chemistry and creativity! Using natural ingredients\, participants will mix up a honey lip balm that’s ready to use or take. After stirring up their balm\, they’ll head to the branding station to give their new product a name\, design a custom label\, or create packaging that reflects their personal style. From start to finish\, it’s a playful journey through natural chemistry\, self-care\, and self-expression  \n  \nFrom 3 – 5 p.m.  \n\nDancing: Beginner and Intermediate hustle and line dancing by the N’Namdi Movement Center with instructor Maurice Adams.  \n\nDetails: Move\, groove and dance your way through the weekend. Learn the basics of non-partner dance styles like hustle\, line dancing and ballroom with an experienced instructor in a beautiful outdoor space. Open to beginners and more experienced dancers.  \nWe suggest wearing comfortable clothes you can move in\, a bottle for filling at the water station and sun protection.  \nThis class is FREE and OPEN to the public. Space will be limited based on park capacity  \n***Plese RSVP for hustle and dance classes by emailing the names of participants to Beacon_Park@DTEEnergy.com and mention ” DANCE RSVP” in your message.  \n  \nFrom 5 – 7 p.m.  \n\nFitness and wellness sessions with Boll Family YMCA. Metro Detroit friends and families can boost their wellness again this year with free\, high energy\, outdoor fitness sessions led by talented instructors and fitness professionals. \n\n\nAugust 10 \n5:00pm – 5:45pm: Instructor – Jayla teaching Step Aerobics \n6:00pm – 6:45pm: Instructor – Colin teaching Stretch \n \nSeptember 14 \n5:00pm – 5:45pm: Instructor – Lynn teaching Zumba \n6:00pm – 6:45pm: Instructor – Nick teaching Stretch  \n*** Please register for attendance by clicking the link HERE or follow the link below https://anc.apm.activecommunities.com/ymcadetroit/activity/search/detail/109234?onlineSiteId=0&from_original_cui=true  \n  \nSummer Sundays at Beacon Park are programmed by the Downtown Detroit Partnership.  \nFor more information about Beacon Park and Lumen restaurant please visit:  \nwww.DTEBeaconPark.com or www.LumenDetroit.com  \n  \n  \nShare
URL:https://empoweringmichigan.com/event/summer-sundays-at-beacon-park/2025-06-22/
LOCATION:Beacon Park\, 1901 Grand River Ave\, Detroit\, MI\, 48226\, United States
CATEGORIES:Featured-Purple
ATTACH;FMTTYPE=image/jpeg:https://empoweringmichigan.com/wp-content/uploads/DDP_BeaconPark_FathersDay_20220620_Web-57-scaled.jpg
GEO:42.334524;-83.054905
X-APPLE-STRUCTURED-LOCATION;VALUE=URI;X-ADDRESS=Beacon Park 1901 Grand River Ave Detroit MI 48226 United States;X-APPLE-RADIUS=500;X-TITLE=1901 Grand River Ave:geo:-83.054905,42.334524
END:VEVENT
END:VCALENDAR