BEGIN:VCALENDAR
VERSION:2.0
PRODID:-//Empowering Michigan - ECPv6.15.20//NONSGML v1.0//EN
CALSCALE:GREGORIAN
METHOD:PUBLISH
X-WR-CALNAME:Empowering Michigan
X-ORIGINAL-URL:https://empoweringmichigan.com
X-WR-CALDESC:Events for Empowering Michigan
REFRESH-INTERVAL;VALUE=DURATION:PT1H
X-Robots-Tag:noindex
X-PUBLISHED-TTL:PT1H
BEGIN:VTIMEZONE
TZID:America/Detroit
BEGIN:DAYLIGHT
TZOFFSETFROM:-0500
TZOFFSETTO:-0400
TZNAME:EDT
DTSTART:20250309T070000
END:DAYLIGHT
BEGIN:STANDARD
TZOFFSETFROM:-0400
TZOFFSETTO:-0500
TZNAME:EST
DTSTART:20251102T060000
END:STANDARD
BEGIN:DAYLIGHT
TZOFFSETFROM:-0500
TZOFFSETTO:-0400
TZNAME:EDT
DTSTART:20260308T070000
END:DAYLIGHT
BEGIN:STANDARD
TZOFFSETFROM:-0400
TZOFFSETTO:-0500
TZNAME:EST
DTSTART:20261101T060000
END:STANDARD
BEGIN:DAYLIGHT
TZOFFSETFROM:-0500
TZOFFSETTO:-0400
TZNAME:EDT
DTSTART:20270314T070000
END:DAYLIGHT
BEGIN:STANDARD
TZOFFSETFROM:-0400
TZOFFSETTO:-0500
TZNAME:EST
DTSTART:20271107T060000
END:STANDARD
BEGIN:DAYLIGHT
TZOFFSETFROM:-0500
TZOFFSETTO:-0400
TZNAME:EDT
DTSTART:20280312T070000
END:DAYLIGHT
BEGIN:STANDARD
TZOFFSETFROM:-0400
TZOFFSETTO:-0500
TZNAME:EST
DTSTART:20281105T060000
END:STANDARD
END:VTIMEZONE
BEGIN:VEVENT
DTSTART;TZID=America/Detroit:20260413T060000
DTEND;TZID=America/Detroit:20260615T220000
DTSTAMP:20260421T214011
CREATED:20260408T164402Z
LAST-MODIFIED:20260409T181448Z
UID:58668-1776060000-1781560800@empoweringmichigan.com
SUMMARY:Pickleball at Beacon Park
DESCRIPTION:Get ready to rally! Pickleball is back at Beacon Park and bigger than ever. Now entering its second year\, this high-energy\, fast-growing sport continues to sweep cities across the country\, bringing together players of all ages and skill levels. Set against the vibrant backdrop of downtown Detroit\, Beacon Park offers the perfect venue to jump into the action and experience the excitement of the game.\n \nBest of all\, open play is completely free\, making it easy to grab a paddle and join in whenever the mood strikes. Whether you’re discovering pickleball for the first time or sharpening your competitive edge\, our welcoming courts are designed for fun\, connection\, and friendly competition in the heart of the city.\n \nThroughout the season\, Beacon Park and the Downtown Detroit Partnership in collaboration with Come Play Detroit and Parking Lot Pickleball will host open play sessions\, organized leagues and thrilling tournaments that keep the energy high and the community growing. Come play\, cheer and connect—pickleball at Beacon Park is your invitation to get active\, meet new people and be part of one of Detroit’s most dynamic outdoor experiences.\n \nPlease note\, those who want to enjoy open play will need to bring their own paddles and balls.\n \nOpen Play: When not in use for leagues\, the courts will be available for the public to enjoy from 6 a.m. – 10 p.m.\n \nLeagues and Tournaments:\nWeekday Leagues: Monday – Friday: 6 – 9:30 p.m.\n \nMonthly Tournaments:\n\nSaturday\, April 26: 10 a.m. – 2 p.m.\nSaturday\, May 16: 10 a.m. – 2 p.m.\nSaturday\, June 13: 10 a.m. – 2 p.m.\n\nLeagues have limited-slots\, so sign up NOW to secure your spot and join the fun: Beacon Park – Come Play Detroit.\nEnjoy refreshments from Lumen Detroit\, conveniently located on-site\, offering beer\, water and food to keep you fueled throughout the event. \nFor more information about Lumen restaurant please visit: www.LumenDetroit.com\n \nPickleball at Beacon Park is made possible by the DTE Beacon Park Foundation\, in partnership with Parking Lot Pickleball and Come Play Detroit and is proudly produced by the Downtown Detroit Partnership.
URL:https://empoweringmichigan.com/event/pickleball-is-back-at-beacon-park/
LOCATION:Beacon Park\, 1901 Grand River Ave\, Detroit\, MI\, 48226\, United States
CATEGORIES:Featured,Featured-Blue
ATTACH;FMTTYPE=image/jpeg:https://empoweringmichigan.com/wp-content/uploads/Pickleball-2026-_BP-Web-Page-1.jpg
GEO:42.334524;-83.054905
X-APPLE-STRUCTURED-LOCATION;VALUE=URI;X-ADDRESS=Beacon Park 1901 Grand River Ave Detroit MI 48226 United States;X-APPLE-RADIUS=500;X-TITLE=1901 Grand River Ave:geo:-83.054905,42.334524
END:VEVENT
BEGIN:VEVENT
DTSTART;VALUE=DATE:20260421
DTEND;VALUE=DATE:20270423
DTSTAMP:20260421T214011
CREATED:20250408T185843Z
LAST-MODIFIED:20260421T185928Z
UID:52555-1776729600-1808438399@empoweringmichigan.com
SUMMARY:Beacon Park 2025 Sustainability Overview
DESCRIPTION:At Beacon Park\, we believe environmental responsibility and sustainability play a vital role in creating a healthy\, thriving public space. Each year\, we advance environmentally centered\, accessible and ecofriendly practices\, emphasizing waste reduction and the use of onsite resources to support a greener future for our region.  \n \nOur Sustainability Priorities: \n\nEnvironment \nGreen Infrastructure\nTransportation Access & Connectivity \nTres & Vegetation \nWaste Management \nCommunity Awareness & Education\n\n \nEnvironment\n \nBeacon Park actively engages in environmental responsibility through its intentional design and onsite assets\, providing the community and visitors with a sustainable public green space. Here’s a look at Beacon Park’s 2025 sustainability accomplishments:  \n\n1.41 tons of waste recycled by park visitors and Lumen Detroit guests \n41 trees onsite\, capturing approximately 1\,500 pounds of CO₂ annually\n4 bioswales that help filter pollutants and reduce stormwater runoff \n4 recycling stations located throughout the venue \nBiodiverse habitat with native species that supports pollinators and serves as a bee sanctuary \n4 electric vehicle charging stations nearby\, supporting cleaner transportation options \n\n \nLumen Detroit – Beacon Park’s flagship restaurant\n \nLumen Detroit was established and built as a Leadership in Energy & Environmental Design (LEED) Silver–Certified building\, reinforcing Beacon Park’s commitment to sustainable development. Lumen features:  \n\n3\,400 square feet of green roof\, reducing surface runoff by 24% and holding up to 3 inches of rainwater \nA menu that includes sustainably sourced beer\, spirits and select food items\, supporting responsible sourcing practices \n\nAccessibility & Connectivity\nBeacon Park serves as a central downtown destination\, helping visitors connect to nearby attractions while reducing the local carbon footprint:  \n\nLocated near 2 bus lines connecting visitors to destinations such as Michigan Central\, Detroit Riverfront\, Ford Field and Hudson’s Detroit \nA 10‑minute walk to the QLINE\, bike stations and the Rosa Parks Transit Center \n20+ bike lanes and bike racks located onsite and nearby \nLocated within 2 square miles of major venues including Comerica Park\, Ford Field and Huntington Place \n\nTo access the full Beacon Park sustainability highlights\, click HERE 
URL:https://empoweringmichigan.com/event/beacon-park-2024-sustainability-overview/
LOCATION:Beacon Park\, 1901 Grand River Ave\, Detroit\, MI\, 48226\, United States
CATEGORIES:Featured,Featured-Aqua
ATTACH;FMTTYPE=image/jpeg:https://empoweringmichigan.com/wp-content/uploads/Sustainability-Summary-2025-_BP-Web-Page-1.jpg
GEO:42.334524;-83.054905
X-APPLE-STRUCTURED-LOCATION;VALUE=URI;X-ADDRESS=Beacon Park 1901 Grand River Ave Detroit MI 48226 United States;X-APPLE-RADIUS=500;X-TITLE=1901 Grand River Ave:geo:-83.054905,42.334524
END:VEVENT
END:VCALENDAR