BEGIN:VCALENDAR
VERSION:2.0
PRODID:-//Empowering Michigan - ECPv6.15.20//NONSGML v1.0//EN
CALSCALE:GREGORIAN
METHOD:PUBLISH
X-ORIGINAL-URL:https://empoweringmichigan.com
X-WR-CALDESC:Events for Empowering Michigan
REFRESH-INTERVAL;VALUE=DURATION:PT1H
X-Robots-Tag:noindex
X-PUBLISHED-TTL:PT1H
BEGIN:VTIMEZONE
TZID:America/Detroit
BEGIN:DAYLIGHT
TZOFFSETFROM:-0500
TZOFFSETTO:-0400
TZNAME:EDT
DTSTART:20240310T070000
END:DAYLIGHT
BEGIN:STANDARD
TZOFFSETFROM:-0400
TZOFFSETTO:-0500
TZNAME:EST
DTSTART:20241103T060000
END:STANDARD
BEGIN:DAYLIGHT
TZOFFSETFROM:-0500
TZOFFSETTO:-0400
TZNAME:EDT
DTSTART:20250309T070000
END:DAYLIGHT
BEGIN:STANDARD
TZOFFSETFROM:-0400
TZOFFSETTO:-0500
TZNAME:EST
DTSTART:20251102T060000
END:STANDARD
BEGIN:DAYLIGHT
TZOFFSETFROM:-0500
TZOFFSETTO:-0400
TZNAME:EDT
DTSTART:20260308T070000
END:DAYLIGHT
BEGIN:STANDARD
TZOFFSETFROM:-0400
TZOFFSETTO:-0500
TZNAME:EST
DTSTART:20261101T060000
END:STANDARD
END:VTIMEZONE
BEGIN:VEVENT
DTSTART;TZID=America/Detroit:20250919T190000
DTEND;TZID=America/Detroit:20250919T230000
DTSTAMP:20260425T062530
CREATED:20250528T170800Z
LAST-MODIFIED:20250624T161710Z
UID:54998-1758308400-1758322800@empoweringmichigan.com
SUMMARY:Eco Sessions at Beacon Park
DESCRIPTION:Discover how green living meets good vibes during Eco Sessions at Beacon Park—a lively series that blends music\, delicious food and environmental inspiration. \nKick off the weekend and enjoy live music with DJ Tom T\, in addition to handcrafted cocktails/mocktails and tasty bites from Lumen Detroit – all while surrounded by skyline views and Beacon Park’s lush green space. Plus\, explore Lumen’s stunning green rooftop\, cozy patio and crackling fire pit. \nThis event is recommended for adults ages 21+. Non-reserved areas of the space will remain open to all visitors as usual. \nReservations are required for indoor dining room service at Lumen. Make a reservation here: https://bit.ly/4k3dKqp \nAdditional information: \n– Events will be cancelled in the cases of inclement weather \n– Seating is limited \n– Seating at select areas of the patio\, rooftop and garden will be first come\, first served \n– Valet parking will be provided on select evenings \n– No outside food or beverages will be permitted on site \n– Proper attire is required for event entrance \n– All Beacon Park and Lumen Detroit rules will be enforced to ensure the comfort of all park visitors and restaurant guests \n– If you plan on attending multiple Fridays\, make sure to register for each date you plan to attend—more registration links to come \nFor more information about Beacon Park and Lumen restaurant please visit: \nwww.DTEBeaconPark.com or www.LumenDetroit.com \nShare
URL:https://empoweringmichigan.com/event/eco-sessions-at-beacon-park/2025-09-19/
LOCATION:Beacon Park\, 1901 Grand River Ave\, Detroit\, MI\, 48226\, United States
CATEGORIES:Featured-Green
ATTACH;FMTTYPE=image/png:https://empoweringmichigan.com/wp-content/uploads/Picture2-2.png
GEO:42.334524;-83.054905
X-APPLE-STRUCTURED-LOCATION;VALUE=URI;X-ADDRESS=Beacon Park 1901 Grand River Ave Detroit MI 48226 United States;X-APPLE-RADIUS=500;X-TITLE=1901 Grand River Ave:geo:-83.054905,42.334524
END:VEVENT
BEGIN:VEVENT
DTSTART;TZID=America/Detroit:20250718T190000
DTEND;TZID=America/Detroit:20250718T230000
DTSTAMP:20260425T062530
CREATED:20250528T170800Z
LAST-MODIFIED:20250624T161706Z
UID:54997-1752865200-1752879600@empoweringmichigan.com
SUMMARY:Eco Sessions at Beacon Park
DESCRIPTION:Discover how green living meets good vibes during Eco Sessions at Beacon Park—a lively series that blends music\, delicious food and environmental inspiration. \nKick off the weekend and enjoy live music with DJ Tom T\, in addition to handcrafted cocktails/mocktails and tasty bites from Lumen Detroit – all while surrounded by skyline views and Beacon Park’s lush green space. Plus\, explore Lumen’s stunning green rooftop\, cozy patio and crackling fire pit. \nThis event is recommended for adults ages 21+. Non-reserved areas of the space will remain open to all visitors as usual. \nReservations are required for indoor dining room service at Lumen. Make a reservation here: https://bit.ly/4k3dKqp \nAdditional information: \n– Events will be cancelled in the cases of inclement weather \n– Seating is limited \n– Seating at select areas of the patio\, rooftop and garden will be first come\, first served \n– Valet parking will be provided on select evenings \n– No outside food or beverages will be permitted on site \n– Proper attire is required for event entrance \n– All Beacon Park and Lumen Detroit rules will be enforced to ensure the comfort of all park visitors and restaurant guests \n– If you plan on attending multiple Fridays\, make sure to register for each date you plan to attend—more registration links to come \nFor more information about Beacon Park and Lumen restaurant please visit: \nwww.DTEBeaconPark.com or www.LumenDetroit.com \nShare
URL:https://empoweringmichigan.com/event/eco-sessions-at-beacon-park/2025-07-18/
LOCATION:Beacon Park\, 1901 Grand River Ave\, Detroit\, MI\, 48226\, United States
CATEGORIES:Featured-Green
ATTACH;FMTTYPE=image/png:https://empoweringmichigan.com/wp-content/uploads/Picture2-2.png
GEO:42.334524;-83.054905
X-APPLE-STRUCTURED-LOCATION;VALUE=URI;X-ADDRESS=Beacon Park 1901 Grand River Ave Detroit MI 48226 United States;X-APPLE-RADIUS=500;X-TITLE=1901 Grand River Ave:geo:-83.054905,42.334524
END:VEVENT
BEGIN:VEVENT
DTSTART;TZID=America/Detroit:20250620T190000
DTEND;TZID=America/Detroit:20250620T230000
DTSTAMP:20260425T062530
CREATED:20250528T170800Z
LAST-MODIFIED:20250624T161704Z
UID:54994-1750446000-1750460400@empoweringmichigan.com
SUMMARY:Eco Sessions at Beacon Park
DESCRIPTION:Discover how green living meets good vibes during Eco Sessions at Beacon Park—a lively series that blends music\, delicious food and environmental inspiration. \nKick off the weekend and enjoy live music with DJ Tom T\, in addition to handcrafted cocktails/mocktails and tasty bites from Lumen Detroit – all while surrounded by skyline views and Beacon Park’s lush green space. Plus\, explore Lumen’s stunning green rooftop\, cozy patio and crackling fire pit. \nThis event is recommended for adults ages 21+. Non-reserved areas of the space will remain open to all visitors as usual. \nReservations are required for indoor dining room service at Lumen. Make a reservation here: https://bit.ly/4k3dKqp \nAdditional information: \n– Events will be cancelled in the cases of inclement weather \n– Seating is limited \n– Seating at select areas of the patio\, rooftop and garden will be first come\, first served \n– Valet parking will be provided on select evenings \n– No outside food or beverages will be permitted on site \n– Proper attire is required for event entrance \n– All Beacon Park and Lumen Detroit rules will be enforced to ensure the comfort of all park visitors and restaurant guests \n– If you plan on attending multiple Fridays\, make sure to register for each date you plan to attend—more registration links to come \nFor more information about Beacon Park and Lumen restaurant please visit: \nwww.DTEBeaconPark.com or www.LumenDetroit.com \nShare
URL:https://empoweringmichigan.com/event/eco-sessions-at-beacon-park/2025-06-20/
LOCATION:Beacon Park\, 1901 Grand River Ave\, Detroit\, MI\, 48226\, United States
CATEGORIES:Featured-Green
ATTACH;FMTTYPE=image/png:https://empoweringmichigan.com/wp-content/uploads/Picture2-2.png
GEO:42.334524;-83.054905
X-APPLE-STRUCTURED-LOCATION;VALUE=URI;X-ADDRESS=Beacon Park 1901 Grand River Ave Detroit MI 48226 United States;X-APPLE-RADIUS=500;X-TITLE=1901 Grand River Ave:geo:-83.054905,42.334524
END:VEVENT
END:VCALENDAR