BEGIN:VCALENDAR
VERSION:2.0
PRODID:-//Empowering Michigan - ECPv6.15.20//NONSGML v1.0//EN
CALSCALE:GREGORIAN
METHOD:PUBLISH
X-WR-CALNAME:Empowering Michigan
X-ORIGINAL-URL:https://empoweringmichigan.com
X-WR-CALDESC:Events for Empowering Michigan
REFRESH-INTERVAL;VALUE=DURATION:PT1H
X-Robots-Tag:noindex
X-PUBLISHED-TTL:PT1H
BEGIN:VTIMEZONE
TZID:America/Detroit
BEGIN:DAYLIGHT
TZOFFSETFROM:-0500
TZOFFSETTO:-0400
TZNAME:EDT
DTSTART:20210314T070000
END:DAYLIGHT
BEGIN:STANDARD
TZOFFSETFROM:-0400
TZOFFSETTO:-0500
TZNAME:EST
DTSTART:20211107T060000
END:STANDARD
BEGIN:DAYLIGHT
TZOFFSETFROM:-0500
TZOFFSETTO:-0400
TZNAME:EDT
DTSTART:20220313T070000
END:DAYLIGHT
BEGIN:STANDARD
TZOFFSETFROM:-0400
TZOFFSETTO:-0500
TZNAME:EST
DTSTART:20221106T060000
END:STANDARD
BEGIN:DAYLIGHT
TZOFFSETFROM:-0500
TZOFFSETTO:-0400
TZNAME:EDT
DTSTART:20230312T070000
END:DAYLIGHT
BEGIN:STANDARD
TZOFFSETFROM:-0400
TZOFFSETTO:-0500
TZNAME:EST
DTSTART:20231105T060000
END:STANDARD
END:VTIMEZONE
BEGIN:VEVENT
DTSTART;TZID=America/Detroit:20221015T130000
DTEND;TZID=America/Detroit:20221015T170000
DTSTAMP:20260425T120610
CREATED:20220916T205342Z
LAST-MODIFIED:20220916T205342Z
UID:39629-1665838800-1665853200@empoweringmichigan.com
SUMMARY:Cider in the City
DESCRIPTION:Beacon Park is proud to bring back Cider in the City! This fall favorite will feature Blake Farms and take place on select Saturdays and Sundays in October.\n \nEnjoy seasonal family fun activities including crafts and face painting\, take a horse-drawn hayride around enjoy live music\, pick out the perfect pumpkin\n \nFEATURING\n– Donuts and Cider\n– Free Horse-drawn hayrides\n– Make and Takes\n– Lawn games: cornhole\, Jenga\, foosball\, connect four\n– Food trucks\n– Live Music\n– Face painting\n– Market Vendors\n \nFor advanced orders and more information visit us online at ciderinthecity.com\n \nFull Cider in the City menu of offerings by Blake’s:\n– Fresh donuts\, plain or cinnamon (6-pack)\n– Apple cider 1/2 gallons\n– Apple cider by the cup\, hot or cold\n– Honey crisp apples\n– Caramel apples\n– Large pumpkins (Jack-o-lanterns)\n– Small pie pumpkins\n*Cash or credit accepted*\n \nShare
URL:https://empoweringmichigan.com/event/cider-in-the-city-6/2022-10-15/
LOCATION:Private:\, 1901 Grand River Ave\, Detroit\, MI\, 48226\, United States
CATEGORIES:Featured-Green
ATTACH;FMTTYPE=image/jpeg:https://empoweringmichigan.com/wp-content/uploads/306794623_2011224382600744_2708771620270059191_n.jpg
GEO:42.334524;-83.054905
X-APPLE-STRUCTURED-LOCATION;VALUE=URI;X-ADDRESS=Private: 1901 Grand River Ave Detroit MI 48226 United States;X-APPLE-RADIUS=500;X-TITLE=1901 Grand River Ave:geo:-83.054905,42.334524
END:VEVENT
END:VCALENDAR