BEGIN:VCALENDAR
VERSION:2.0
PRODID:-//Empowering Michigan - ECPv6.15.20//NONSGML v1.0//EN
CALSCALE:GREGORIAN
METHOD:PUBLISH
X-WR-CALNAME:Empowering Michigan
X-ORIGINAL-URL:https://empoweringmichigan.com
X-WR-CALDESC:Events for Empowering Michigan
REFRESH-INTERVAL;VALUE=DURATION:PT1H
X-Robots-Tag:noindex
X-PUBLISHED-TTL:PT1H
BEGIN:VTIMEZONE
TZID:America/Detroit
BEGIN:DAYLIGHT
TZOFFSETFROM:-0500
TZOFFSETTO:-0400
TZNAME:EDT
DTSTART:20180311T070000
END:DAYLIGHT
BEGIN:STANDARD
TZOFFSETFROM:-0400
TZOFFSETTO:-0500
TZNAME:EST
DTSTART:20181104T060000
END:STANDARD
BEGIN:DAYLIGHT
TZOFFSETFROM:-0500
TZOFFSETTO:-0400
TZNAME:EDT
DTSTART:20190310T070000
END:DAYLIGHT
BEGIN:STANDARD
TZOFFSETFROM:-0400
TZOFFSETTO:-0500
TZNAME:EST
DTSTART:20191103T060000
END:STANDARD
BEGIN:DAYLIGHT
TZOFFSETFROM:-0500
TZOFFSETTO:-0400
TZNAME:EDT
DTSTART:20200308T070000
END:DAYLIGHT
BEGIN:STANDARD
TZOFFSETFROM:-0400
TZOFFSETTO:-0500
TZNAME:EST
DTSTART:20201101T060000
END:STANDARD
END:VTIMEZONE
BEGIN:VEVENT
DTSTART;TZID=America/Detroit:20190609T130000
DTEND;TZID=America/Detroit:20190609T170000
DTSTAMP:20260423T175527
CREATED:20190520T184322Z
LAST-MODIFIED:20190607T151555Z
UID:13223-1560085200-1560099600@empoweringmichigan.com
SUMMARY:Beacon Park Family Fun Days
DESCRIPTION:Sundays are for family! Family Fun Days at Beacon Park Detroit are back by popular demand! We’re excited to be bringing FREE activities throughout the whole summer for all ages to come and enjoy!  \nThink make/take activities\, lawn games\, inflatables\, face painting\, crafts and much more! Specific details coming SOON!  \nWe will have food trucks available and Lumen Detroit will be open during the events for food and drink too!  \nEVENT DATES + THEME\nFAMILY FUN DAY – Sundays\, 1pm -5pm \nSunday\, June 9th – Get Up and Move\nSunday\, June 16th – Father’s Day\nSunday\, June 23rd – Passport\nSunday\, June 30 – School’s Out\nSunday\, July 7th – Get Up and Move\nSunday\, July 14th – Passport \nSunday\, July 21st – Birthday Party \nSunday\, July 28th – STEM and Literacy \nSunday\, August 4th – Get Up and Move\nSunday\, August 11th – Beach Party\nSunday\, August 18th – Passport \nSunday\, August 25th – Back to School \n\nThis is sponsored by DTE Energy Beacon Park Detroit Foundation and programmed by the Downtown Detroit Partnership. \n \nShare
URL:https://empoweringmichigan.com/event/beacon-park-family-fun-days/2019-06-09/
LOCATION:Beacon Park\, 1901 Grand River Ave\, Detroit\, MI\, 48226\, United States
CATEGORIES:Featured-Aqua
ATTACH;FMTTYPE=image/jpeg:https://empoweringmichigan.com/wp-content/uploads/2019/05/DSC05217-1.jpg
GEO:42.334524;-83.054905
X-APPLE-STRUCTURED-LOCATION;VALUE=URI;X-ADDRESS=Beacon Park 1901 Grand River Ave Detroit MI 48226 United States;X-APPLE-RADIUS=500;X-TITLE=1901 Grand River Ave:geo:-83.054905,42.334524
END:VEVENT
END:VCALENDAR